BEGIN:VCALENDAR
VERSION:2.0
PRODID:-//Squarespace Inc/Squarespace 6//v6//EN
BEGIN:VEVENT
UID:6004e7c0dc5a6f13a17cdcbe@squarespace.com
DTSTAMP:20210118T020327Z
DTSTART:20210118T020000Z
DTEND:20210118T030000Z
SUMMARY:Shropshire Blue Cheese &amp\; Vegetable Frittata
GEO:-37.847523;144.997708
LOCATION:AGA Australia\, 330 Malvern Road\, Prahran\, VIC\, 3181\, Australi
 a
END:VEVENT
END:VCALENDAR
