BEGIN:VCALENDAR
VERSION:2.0
PRODID:-//Squarespace Inc/Squarespace 6//v6//EN
BEGIN:VEVENT
UID:5d89986b5e600a194cb3365e@squarespace.com
DTSTAMP:20200901T052348Z
DTSTART:20140711T043000Z
DTEND:20210511T063000Z
SUMMARY:Cherry and Almond Tart
END:VEVENT
END:VCALENDAR
