BEGIN:VCALENDAR
VERSION:2.0
PRODID:-//Squarespace Inc/Squarespace 6//v6//EN
BEGIN:VEVENT
UID:5d843a40fe1b1832273609fb@squarespace.com
DTSTAMP:20200901T063029Z
DTSTART:20140517T030000Z
DTEND:20221116T050000Z
SUMMARY:Shakshuka
END:VEVENT
END:VCALENDAR
