BEGIN:VCALENDAR
VERSION:2.0
PRODID:-//Squarespace Inc/Squarespace 6//v6//EN
BEGIN:VEVENT
UID:5b03841003ce64928f5bf283@squarespace.com
DTSTAMP:20200901T053256Z
DTSTART:20160602T030000Z
DTEND:20220402T030000Z
SUMMARY:Maple and Pecan Corn Bread
END:VEVENT
END:VCALENDAR
