BEGIN:VCALENDAR
VERSION:2.0
PRODID:-//Squarespace Inc/Squarespace 6//v6//EN
BEGIN:VEVENT
UID:5ad552496d2a73b5ccfa88b1@squarespace.com
DTSTAMP:20190125T014654Z
DTSTART:20161113T010000Z
DTEND:20200723T010000Z
SUMMARY:Vegan Pulled Pork Burgers
END:VEVENT
END:VCALENDAR
