BEGIN:VCALENDAR
VERSION:2.0
PRODID:-//Squarespace Inc/Squarespace 6//v6//EN
BEGIN:VEVENT
UID:5c1af024562fa7d15b15ad66@squarespace.com
DTSTAMP:20181220T013634Z
DTSTART:20151220T013000Z
DTEND:20220620T033000Z
SUMMARY:Rayburn Chicken and Leek Pie
END:VEVENT
END:VCALENDAR
