BEGIN:VCALENDAR
VERSION:2.0
PRODID:-//Squarespace Inc/Squarespace 6//v6//EN
BEGIN:VEVENT
UID:5bceb7008165f5dee7225646@squarespace.com
DTSTAMP:20200901T044025Z
DTSTART:20160106T060000Z
DTEND:20211205T060000Z
SUMMARY:Rüeblitorte (Carrot Cake)
END:VEVENT
END:VCALENDAR
