BEGIN:VCALENDAR
VERSION:2.0
PRODID:-//Squarespace Inc/Squarespace 6//v6//EN
BEGIN:VEVENT
UID:5bb19c95e5e5f08a8c7e2226@squarespace.com
DTSTAMP:20200901T045155Z
DTSTART:20160408T043000Z
DTEND:20200708T053000Z
SUMMARY:Roast Potato and Pea Salad with Tzatziki
END:VEVENT
END:VCALENDAR
