BEGIN:VCALENDAR
VERSION:2.0
PRODID:-//Squarespace Inc/Squarespace 6//v6//EN
BEGIN:VEVENT
UID:5a5fd6959140b7dc2ed3087f@squarespace.com
DTSTAMP:20180117T231458Z
DTSTART:20170203T233000Z
DTEND:20210804T013000Z
SUMMARY:Chocolate and Almond Millefeuille 
END:VEVENT
END:VCALENDAR
