BEGIN:VCALENDAR
VERSION:2.0
PRODID:-//Squarespace Inc/Squarespace 6//v6//EN
BEGIN:VEVENT
UID:59c4615246c3c404787f1a9e@squarespace.com
DTSTAMP:20171208T001642Z
DTSTART:20170316T003000Z
DTEND:20220113T013000Z
SUMMARY:Donut Ice Cream Sandwiches
END:VEVENT
END:VCALENDAR
