BEGIN:VCALENDAR
VERSION:2.0
PRODID:-//Squarespace Inc/Squarespace 6//v6//EN
BEGIN:VEVENT
UID:59b745ef3c7591e10f2ffde4@squarespace.com
DTSTAMP:20181109T042918Z
DTSTART:20170317T013000Z
DTEND:20220117T023000Z
SUMMARY:Greek Style Roasted Lamb Gyros with Harissa Spiced Tzatziki
END:VEVENT
END:VCALENDAR
