BEGIN:VCALENDAR
VERSION:2.0
PRODID:-//Squarespace Inc/Squarespace 6//v6//EN
BEGIN:VEVENT
UID:5983c2aa914e6b93fcca822b@squarespace.com
DTSTAMP:20171208T005653Z
DTSTART:20170329T000000Z
DTEND:20210428T020000Z
SUMMARY:Whole Wheat Spinach and Artichoke Pizza
END:VEVENT
END:VCALENDAR
