BEGIN:VCALENDAR
VERSION:2.0
PRODID:-//Squarespace Inc/Squarespace 6//v6//EN
BEGIN:VEVENT
UID:599e2e9b46c3c4f77bb9c2e9@squarespace.com
DTSTAMP:20200901T054913Z
DTSTART:20170323T010000Z
DTEND:20211223T020000Z
SUMMARY:Roasted Veggie Pitas with Avocado Dip
END:VEVENT
END:VCALENDAR
