BEGIN:VCALENDAR
VERSION:2.0
PRODID:-//Squarespace Inc/Squarespace 6//v6//EN
BEGIN:VEVENT
UID:599632b52994ca702273d443@squarespace.com
DTSTAMP:20171208T005607Z
DTSTART:20170325T233000Z
DTEND:20210426T013000Z
SUMMARY:Strawberry Rhubarb Pie Ice Cream Sandwiches
END:VEVENT
END:VCALENDAR
