BEGIN:VCALENDAR
VERSION:2.0
PRODID:-//Squarespace Inc/Squarespace 6//v6//EN
BEGIN:VEVENT
UID:598d126637c581267140db3c@squarespace.com
DTSTAMP:20190125T015105Z
DTSTART:20170328T013000Z
DTEND:20210528T033000Z
SUMMARY:Garden Tart With Roasted Red Pepper &amp\; Feta Spread
END:VEVENT
END:VCALENDAR
