BEGIN:VCALENDAR
VERSION:2.0
PRODID:-//Squarespace Inc/Squarespace 6//v6//EN
BEGIN:VEVENT
UID:597960b66f4ca39b731ca472@squarespace.com
DTSTAMP:20200901T055250Z
DTSTART:20170403T040000Z
DTEND:20200604T050000Z
SUMMARY:Garlic + Rosemary Baked Vegan Camembert with Garlic Bread
END:VEVENT
END:VCALENDAR
