BEGIN:VCALENDAR
VERSION:2.0
PRODID:-//Squarespace Inc/Squarespace 6//v6//EN
BEGIN:VEVENT
UID:5968143af7e0ab6bccf22d64@squarespace.com
DTSTAMP:20171208T005827Z
DTSTART:20170405T010000Z
DTEND:20220205T010000Z
SUMMARY:Layered Hazelnut Pavlova with Mascarpone Cream and Berries
END:VEVENT
END:VCALENDAR
