BEGIN:VCALENDAR
VERSION:2.0
PRODID:-//Squarespace Inc/Squarespace 6//v6//EN
BEGIN:VEVENT
UID:5965be8515d5db6de03f48c8@squarespace.com
DTSTAMP:20200901T050538Z
DTSTART:20170406T063000Z
DTEND:20210606T073000Z
SUMMARY:Ham hock and pea croquettes
END:VEVENT
END:VCALENDAR
