BEGIN:VCALENDAR
VERSION:2.0
PRODID:-//Squarespace Inc/Squarespace 6//v6//EN
BEGIN:VEVENT
UID:59409b9459cc6848553c1ec3@squarespace.com
DTSTAMP:20200901T050555Z
DTSTART:20170409T023000Z
DTEND:20210710T033000Z
SUMMARY:Sweet Potato Gnocchi with 15-Minute Tomato Sauce
END:VEVENT
END:VCALENDAR
