BEGIN:VCALENDAR
VERSION:2.0
PRODID:-//Squarespace Inc/Squarespace 6//v6//EN
BEGIN:VEVENT
UID:590fd7d8bf629ae112c93b6e@squarespace.com
DTSTAMP:20171208T005928Z
DTSTART:20170411T023000Z
DTEND:20200820T033000Z
SUMMARY:Hot Chocolate Soufflés
END:VEVENT
END:VCALENDAR
