BEGIN:VCALENDAR
VERSION:2.0
PRODID:-//Squarespace Inc/Squarespace 6//v6//EN
BEGIN:VEVENT
UID:592ba6bcd482e9898c6b24bd@squarespace.com
DTSTAMP:20200901T062155Z
DTSTART:20170410T050000Z
DTEND:20230316T050000Z
SUMMARY:Raspberry Roll Cake
END:VEVENT
END:VCALENDAR
