BEGIN:VCALENDAR
VERSION:2.0
PRODID:-//Squarespace Inc/Squarespace 6//v6//EN
BEGIN:VEVENT
UID:5b3c5d242b6a281733452096@squarespace.com
DTSTAMP:20180704T060020Z
DTSTART:20160517T060000Z
DTEND:20200817T070000Z
SUMMARY:Chocolate Brioches
END:VEVENT
END:VCALENDAR
