BEGIN:VCALENDAR
VERSION:2.0
PRODID:-//Squarespace Inc/Squarespace 6//v6//EN
BEGIN:VEVENT
UID:59795483a803bb7c43cb1eb3@squarespace.com
DTSTAMP:20200901T051743Z
DTSTART:20170404T030000Z
DTEND:20191204T030000Z
SUMMARY:Roasted Garlic and Rocket Chicken
END:VEVENT
END:VCALENDAR
