BEGIN:VCALENDAR
VERSION:2.0
PRODID:-//Squarespace Inc/Squarespace 6//v6//EN
BEGIN:VEVENT
UID:58e1b44117bffc2b388b9e9a@squarespace.com
DTSTAMP:20171208T010003Z
DTSTART:20170414T030000Z
DTEND:20200629T040000Z
SUMMARY:Cheese and Rocket Quiche
END:VEVENT
END:VCALENDAR
