BEGIN:VCALENDAR
VERSION:2.0
PRODID:-//Squarespace Inc/Squarespace 6//v6//EN
BEGIN:VEVENT
UID:58eec585be6594f0ff4fd080@squarespace.com
DTSTAMP:20200407T023456Z
DTSTART:20170413T003000Z
DTEND:20200716T013000Z
SUMMARY:Hot Cross Buns
END:VEVENT
END:VCALENDAR
