BEGIN:VCALENDAR
VERSION:2.0
PRODID:-//Squarespace Inc/Squarespace 6//v6//EN
BEGIN:VEVENT
UID:59f7dbeff9619adefc5de7fa@squarespace.com
DTSTAMP:20200901T045415Z
DTSTART:20170303T023000Z
DTEND:20200103T033000Z
SUMMARY:Blueberry and Coconut Ice-cream Sandwiches
END:VEVENT
END:VCALENDAR
