BEGIN:VCALENDAR
VERSION:2.0
PRODID:-//Squarespace Inc/Squarespace 6//v6//EN
BEGIN:VEVENT
UID:59f2938b652deaab95233e23@squarespace.com
DTSTAMP:20200901T051155Z
DTSTART:20170304T023000Z
DTEND:20211004T033000Z
SUMMARY:Prosciutto and Buffalo Mozzarella Pizza
END:VEVENT
END:VCALENDAR
