BEGIN:VCALENDAR
VERSION:2.0
PRODID:-//Squarespace Inc/Squarespace 6//v6//EN
BEGIN:VEVENT
UID:59fba59f24a694bdc3232285@squarespace.com
DTSTAMP:20200901T051140Z
DTSTART:20170302T233000Z
DTEND:20210403T003000Z
SUMMARY:Cheddar Cornbread Waffle BLT
END:VEVENT
END:VCALENDAR
