BEGIN:VCALENDAR
VERSION:2.0
PRODID:-//Squarespace Inc/Squarespace 6//v6//EN
BEGIN:VEVENT
UID:598d143d7131a579609c81d6@squarespace.com
DTSTAMP:20190125T015041Z
DTSTART:20170327T013000Z
DTEND:20210527T033000Z
SUMMARY:Spring Vegetable Pot Pie
END:VEVENT
END:VCALENDAR
