BEGIN:VCALENDAR
VERSION:2.0
PRODID:-//Squarespace Inc/Squarespace 6//v6//EN
BEGIN:VEVENT
UID:58d49f4c8419c2d38077e1a7@squarespace.com
DTSTAMP:20171208T010019Z
DTSTART:20170414T053000Z
DTEND:20200414T062400Z
SUMMARY:Pink Meringues with Rosewater Cream
END:VEVENT
END:VCALENDAR
