BEGIN:VCALENDAR
VERSION:2.0
PRODID:-//Squarespace Inc/Squarespace 6//v6//EN
BEGIN:VEVENT
UID:599e2c7af7e0aba9e95fb10c@squarespace.com
DTSTAMP:20200901T045253Z
DTSTART:20170324T010000Z
DTEND:20220324T020000Z
SUMMARY:Char-grilled Potato Salad with Creamy Mustard Dressing
END:VEVENT
END:VCALENDAR
