BEGIN:VCALENDAR
VERSION:2.0
PRODID:-//Squarespace Inc/Squarespace 6//v6//EN
BEGIN:VEVENT
UID:5a04ddeb652dea447cbdc343@squarespace.com
DTSTAMP:20200901T044213Z
DTSTART:20170228T230000Z
DTEND:20190901T010000Z
SUMMARY:White Chocolate Passionfruit Cheesecake
END:VEVENT
END:VCALENDAR
