BEGIN:VCALENDAR
VERSION:2.0
PRODID:-//Squarespace Inc/Squarespace 6//v6//EN
BEGIN:VEVENT
UID:59e02cadb07869f894d8e4c8@squarespace.com
DTSTAMP:20200901T054901Z
DTSTART:20170318T033000Z
DTEND:20220418T053000Z
SUMMARY:Farmers Market Hummus
END:VEVENT
END:VCALENDAR
