BEGIN:VCALENDAR
VERSION:2.0
PRODID:-//Squarespace Inc/Squarespace 6//v6//EN
BEGIN:VEVENT
UID:59c482052994ca9ad2c7491c@squarespace.com
DTSTAMP:20200901T051316Z
DTSTART:20170315T023000Z
DTEND:20221112T033000Z
SUMMARY:Churro Waffles
END:VEVENT
END:VCALENDAR
