BEGIN:VCALENDAR
VERSION:2.0
PRODID:-//Squarespace Inc/Squarespace 6//v6//EN
BEGIN:VEVENT
UID:59cc645d59cc682dca0a873a@squarespace.com
DTSTAMP:20200901T051305Z
DTSTART:20170314T020000Z
DTEND:20220414T040000Z
SUMMARY:Caramelized Balsamic Goat Cheese Pasta
END:VEVENT
END:VCALENDAR
