BEGIN:VCALENDAR
VERSION:2.0
PRODID:-//Squarespace Inc/Squarespace 6//v6//EN
BEGIN:VEVENT
UID:59cc66e4bebafbe6f3d85baa@squarespace.com
DTSTAMP:20171208T001601Z
DTSTART:20170313T023000Z
DTEND:20211213T033000Z
SUMMARY:Seafood and Chorizo Paella
END:VEVENT
END:VCALENDAR
