BEGIN:VCALENDAR
VERSION:2.0
PRODID:-//Squarespace Inc/Squarespace 6//v6//EN
BEGIN:VEVENT
UID:59f28b25f9619a6187065ca7@squarespace.com
DTSTAMP:20171208T001436Z
DTSTART:20170305T013000Z
DTEND:20220105T023000Z
SUMMARY:Chocolate and Raspberry Marshmellow Slice
END:VEVENT
END:VCALENDAR
