BEGIN:VCALENDAR
VERSION:2.0
PRODID:-//Squarespace Inc/Squarespace 6//v6//EN
BEGIN:VEVENT
UID:59d6e508017db2586d1f292e@squarespace.com
DTSTAMP:20171208T001537Z
DTSTART:20170311T023000Z
DTEND:20200611T043000Z
SUMMARY:Raspberry Ricotta Croissant French Toast
END:VEVENT
END:VCALENDAR
