BEGIN:VCALENDAR
VERSION:2.0
PRODID:-//Squarespace Inc/Squarespace 6//v6//EN
BEGIN:VEVENT
UID:59e027e54c0dbf13ffe4c7c8@squarespace.com
DTSTAMP:20171208T001510Z
DTSTART:20170309T030000Z
DTEND:20200809T050000Z
SUMMARY:Raspberry White Chocolate Macarons
END:VEVENT
END:VCALENDAR
