BEGIN:VCALENDAR
VERSION:2.0
PRODID:-//Squarespace Inc/Squarespace 6//v6//EN
BEGIN:VEVENT
UID:5a39c019e4966b2811e08e1f@squarespace.com
DTSTAMP:20200904T012614Z
DTSTART:20170209T020000Z
DTEND:20210609T040000Z
SUMMARY:Roasted Rack of Lamb with Basil Goat Cheese Sauce
END:VEVENT
END:VCALENDAR
