BEGIN:VCALENDAR
VERSION:2.0
PRODID:-//Squarespace Inc/Squarespace 6//v6//EN
BEGIN:VEVENT
UID:5a3b2fa353450af67d7ece2f@squarespace.com
DTSTAMP:20171221T044400Z
DTSTART:20170206T040000Z
DTEND:20220306T050000Z
SUMMARY:Lime and Vanilla Yo-yo's with Passionfruit Curd
END:VEVENT
END:VCALENDAR
