BEGIN:VCALENDAR
VERSION:2.0
PRODID:-//Squarespace Inc/Squarespace 6//v6//EN
BEGIN:VEVENT
UID:5a0e3c458165f5db2ad31c32@squarespace.com
DTSTAMP:20171208T001212Z
DTSTART:20170227T020000Z
DTEND:20210427T040000Z
SUMMARY:Peanut Butter Cheesecake Tart with Peanut Praline
END:VEVENT
END:VCALENDAR
