BEGIN:VCALENDAR
VERSION:2.0
PRODID:-//Squarespace Inc/Squarespace 6//v6//EN
BEGIN:VEVENT
UID:5a04e84f652dea8013177028@squarespace.com
DTSTAMP:20200901T055303Z
DTSTART:20170228T000000Z
DTEND:20200528T020000Z
SUMMARY:Bao Sandwich with Chicken Saffron
END:VEVENT
END:VCALENDAR
