BEGIN:VCALENDAR
VERSION:2.0
PRODID:-//Squarespace Inc/Squarespace 6//v6//EN
BEGIN:VEVENT
UID:5a0e3d66652deaed3c5fe42a@squarespace.com
DTSTAMP:20200901T045047Z
DTSTART:20170226T020000Z
DTEND:20190927T040000Z
SUMMARY:Chicken Skewers With Chimichurri and Quinoa Salad
END:VEVENT
END:VCALENDAR
