BEGIN:VCALENDAR
VERSION:2.0
PRODID:-//Squarespace Inc/Squarespace 6//v6//EN
BEGIN:VEVENT
UID:5a65482c71c10b2e8a583c1b@squarespace.com
DTSTAMP:20180122T021710Z
DTSTART:20170202T023000Z
DTEND:20200102T033000Z
SUMMARY:Mushroom Gnocchi with Arugula and Walnut Pesto
END:VEVENT
END:VCALENDAR
