BEGIN:VCALENDAR
VERSION:2.0
PRODID:-//Squarespace Inc/Squarespace 6//v6//EN
BEGIN:VEVENT
UID:5a654127ec212d8a1b96cc26@squarespace.com
DTSTAMP:20181019T030311Z
DTSTART:20170202T020000Z
DTEND:20200802T040000Z
SUMMARY:Fennel and Herb-Crusted Salmon
END:VEVENT
END:VCALENDAR
