BEGIN:VCALENDAR
VERSION:2.0
PRODID:-//Squarespace Inc/Squarespace 6//v6//EN
BEGIN:VEVENT
UID:5a33497d9140b7643793f935@squarespace.com
DTSTAMP:20171215T040920Z
DTSTART:20170214T043000Z
DTEND:20200914T063000Z
SUMMARY:Hot Chocolate Cream Puffs
END:VEVENT
END:VCALENDAR
