BEGIN:VCALENDAR
VERSION:2.0
PRODID:-//Squarespace Inc/Squarespace 6//v6//EN
BEGIN:VEVENT
UID:5a39aea08165f5cacc4f7065@squarespace.com
DTSTAMP:20200901T050920Z
DTSTART:20170212T003000Z
DTEND:20200912T023000Z
SUMMARY:Vegan Mushroom Wellington
END:VEVENT
END:VCALENDAR
