BEGIN:VCALENDAR
VERSION:2.0
PRODID:-//Squarespace Inc/Squarespace 6//v6//EN
BEGIN:VEVENT
UID:5a39b9b7c83025aa67d7a62f@squarespace.com
DTSTAMP:20200901T050902Z
DTSTART:20170210T013000Z
DTEND:20210410T033000Z
SUMMARY:Greek Spinach\, Feta and Potato Waffles
END:VEVENT
END:VCALENDAR
