BEGIN:VCALENDAR
VERSION:2.0
PRODID:-//Squarespace Inc/Squarespace 6//v6//EN
BEGIN:VEVENT
UID:5a653fcaf9619a2679315b19@squarespace.com
DTSTAMP:20180122T014003Z
DTSTART:20170203T020000Z
DTEND:20200603T040000Z
SUMMARY:Tim Tam Slam Macarons
END:VEVENT
END:VCALENDAR
